BEGIN:VCALENDAR
VERSION:2.0
PRODID:-//217.160.0.144//NONSGML kigkonsult.se iCalcreator 2.20//
CALSCALE:GREGORIAN
METHOD:PUBLISH
X-WR-TIMEZONE:UTC
BEGIN:VEVENT
UID:event478@Tierärztlicher Notdienst im Landkreis Goslar
DTSTAMP:20260422T112727Z
CATEGORIES:Tierärztlicher Notdienst
DESCRIPTION:Tierärzte Dres Hinken\nKategorie: Tierärztlicher Notdienst\nICS
 -Link: http://www.tierzentrum.de/tierarzt-notdienst/index.php?option=com_j
 em&view=event&id=478:tieraerzte-dres-hinken\n
DTSTART:20260626T200000Z
DTEND:20260629T080000Z
LOCATION:Kleintierpraxis Dres. Hinken\,Grauhöfer Landwehr 3a\,38644 Goslar
SUMMARY:Tierärzte Dres Hinken
URL:http://www.tierzentrum.de/tierarzt-notdienst/index.php?option=com_jem&v
 iew=event&id=478:tieraerzte-dres-hinken
END:VEVENT
BEGIN:VEVENT
UID:event479@Tierärztlicher Notdienst im Landkreis Goslar
DTSTAMP:20260422T112727Z
CATEGORIES:Tierärztlicher Notdienst
DESCRIPTION:Tierärzte Dres Hinken\nKategorie: Tierärztlicher Notdienst\nICS
 -Link: http://www.tierzentrum.de/tierarzt-notdienst/index.php?option=com_j
 em&view=event&id=479:tieraerzte-dres-hinken\n
DTSTART:20260904T200000Z
DTEND:20260907T080000Z
LOCATION:Kleintierpraxis Dres. Hinken\,Grauhöfer Landwehr 3a\,38644 Goslar
SUMMARY:Tierärzte Dres Hinken
URL:http://www.tierzentrum.de/tierarzt-notdienst/index.php?option=com_jem&v
 iew=event&id=479:tieraerzte-dres-hinken
END:VEVENT
END:VCALENDAR
