BEGIN:VCALENDAR
VERSION:2.0
PRODID:-//217.160.0.144//NONSGML kigkonsult.se iCalcreator 2.20//
CALSCALE:GREGORIAN
METHOD:PUBLISH
X-WR-TIMEZONE:UTC
BEGIN:VEVENT
UID:event481@Tierärztlicher Notdienst im Landkreis Goslar
DTSTAMP:20260422T112727Z
CATEGORIES:Tierärztlicher Notdienst
DESCRIPTION:Kleintierpraxis Dr. Schönert\nKategorie: Tierärztlicher Notdien
 st\nICS-Link: http://www.tierzentrum.de/tierarzt-notdienst/index.php?optio
 n=com_jem&view=event&id=481:kleintierpraxis-dr-schoenert\n
DTSTART:20260515T200000Z
DTEND:20260518T080000Z
LOCATION:Kleintierpraxis Dr. Holger Schönert\,Am Ludwiger Graben 3\,38678 C
 lausthal-Zellerfeld
SUMMARY:Kleintierpraxis Dr. Schönert
URL:http://www.tierzentrum.de/tierarzt-notdienst/index.php?option=com_jem&v
 iew=event&id=481:kleintierpraxis-dr-schoenert
END:VEVENT
BEGIN:VEVENT
UID:event482@Tierärztlicher Notdienst im Landkreis Goslar
DTSTAMP:20260422T112727Z
CATEGORIES:Tierärztlicher Notdienst
DESCRIPTION:Kleintierpraxis Dr. Schönert\nKategorie: Tierärztlicher Notdien
 st\nICS-Link: http://www.tierzentrum.de/tierarzt-notdienst/index.php?optio
 n=com_jem&view=event&id=482:kleintierpraxis-dr-schoenert\n
DTSTART:20260717T200000Z
DTEND:20260720T080000Z
LOCATION:Kleintierpraxis Dr. Holger Schönert\,Am Ludwiger Graben 3\,38678 C
 lausthal-Zellerfeld
SUMMARY:Kleintierpraxis Dr. Schönert
URL:http://www.tierzentrum.de/tierarzt-notdienst/index.php?option=com_jem&v
 iew=event&id=482:kleintierpraxis-dr-schoenert
END:VEVENT
BEGIN:VEVENT
UID:event483@Tierärztlicher Notdienst im Landkreis Goslar
DTSTAMP:20260422T112727Z
CATEGORIES:Tierärztlicher Notdienst
DESCRIPTION:Kleintierpraxis Dr. Schönert\nKategorie: Tierärztlicher Notdien
 st\nICS-Link: http://www.tierzentrum.de/tierarzt-notdienst/index.php?optio
 n=com_jem&view=event&id=483:kleintierpraxis-dr-schoenert\n
DTSTART:20260807T200000Z
DTEND:20260810T080000Z
LOCATION:Kleintierpraxis Dr. Holger Schönert\,Am Ludwiger Graben 3\,38678 C
 lausthal-Zellerfeld
SUMMARY:Kleintierpraxis Dr. Schönert
URL:http://www.tierzentrum.de/tierarzt-notdienst/index.php?option=com_jem&v
 iew=event&id=483:kleintierpraxis-dr-schoenert
END:VEVENT
END:VCALENDAR
